BEGIN:VCALENDAR
PRODID:-//github.com/rianjs/ical.net//NONSGML ical.net 4.0//EN
VERSION:2.0
BEGIN:VEVENT
DESCRIPTION:Skolevalg Blindern vgs
DTEND:20210907T235959
DTSTAMP:20260422T165011Z
DTSTART;VALUE=DATE:20210907
LOCATION:Klassevis
SEQUENCE:0
SUMMARY:Skolevalg Blindern vgs
UID:3014e496-6765-4470-8e39-228012a16caf
END:VEVENT
END:VCALENDAR
