BEGIN:VCALENDAR
PRODID:-//github.com/rianjs/ical.net//NONSGML ical.net 4.0//EN
VERSION:2.0
BEGIN:VEVENT
DESCRIPTION:Offentliggjøring av  eksamenstrekk for skriftlig eksamen
DTEND:20160513T090000
DTSTAMP:20260423T153946Z
DTSTART:20160513T090000
SEQUENCE:0
SUMMARY:Offentliggjøring av  eksamenstrekk for skriftlig eksamen
UID:b0e4fd0c-bc92-4dd5-a58f-cb108587803d
END:VEVENT
END:VCALENDAR
